BEGIN:VCALENDAR
VERSION:2.0
PRODID:-//Helend Licht - ECPv6.15.20//NONSGML v1.0//EN
CALSCALE:GREGORIAN
METHOD:PUBLISH
X-WR-CALNAME:Helend Licht
X-ORIGINAL-URL:https://intuitievebegeleiding.nl
X-WR-CALDESC:Evenementen voor Helend Licht
REFRESH-INTERVAL;VALUE=DURATION:PT1H
X-Robots-Tag:noindex
X-PUBLISHED-TTL:PT1H
BEGIN:VTIMEZONE
TZID:Europe/Amsterdam
BEGIN:DAYLIGHT
TZOFFSETFROM:+0100
TZOFFSETTO:+0200
TZNAME:CEST
DTSTART:20250330T010000
END:DAYLIGHT
BEGIN:STANDARD
TZOFFSETFROM:+0200
TZOFFSETTO:+0100
TZNAME:CET
DTSTART:20251026T010000
END:STANDARD
BEGIN:DAYLIGHT
TZOFFSETFROM:+0100
TZOFFSETTO:+0200
TZNAME:CEST
DTSTART:20260329T010000
END:DAYLIGHT
BEGIN:STANDARD
TZOFFSETFROM:+0200
TZOFFSETTO:+0100
TZNAME:CET
DTSTART:20261025T010000
END:STANDARD
BEGIN:DAYLIGHT
TZOFFSETFROM:+0100
TZOFFSETTO:+0200
TZNAME:CEST
DTSTART:20270328T010000
END:DAYLIGHT
BEGIN:STANDARD
TZOFFSETFROM:+0200
TZOFFSETTO:+0100
TZNAME:CET
DTSTART:20271031T010000
END:STANDARD
END:VTIMEZONE
BEGIN:VEVENT
DTSTART;TZID=Europe/Amsterdam:20260212T100000
DTEND;TZID=Europe/Amsterdam:20260212T170000
DTSTAMP:20260424T184552
CREATED:20251227T104117Z
LAST-MODIFIED:20251227T104117Z
UID:3840-1770890400-1770915600@intuitievebegeleiding.nl
SUMMARY:Opleiding Luisterkindwerker (locatie)
DESCRIPTION:Word Luisterkindwerker\n\nBen jij klaar om écht het verschil te maken in het leven van anderen?\nWil je leren om op zielsniveau te luisteren\, om kinderen én volwassenen op een diepere laag te bereiken?\nDan is de opleiding tot Luisterkindwerker iets voor jou (wat de Luisterkindmethode is\, lees je hier )\nVanaf januari 2026 bied ik deze bijzondere opleiding aan. Je leert hoe je met volledige afstemming en diep luisteren mensen begeleidt richting meer balans\, helderheid en innerlijke rust. \nE-learning:\nStart 9 januari. Andere data zijn 06-02\, 06-03\, 27-03 en 24-04 \nFysiek op locatie:\nStart 12 februari. Andere data zijn 12-03\, 09-04\, 07-05 en 04-06
URL:https://intuitievebegeleiding.nl/activiteit/opleiding-luisterkindwerker-locatie/
LOCATION:Locatie\, Emingaheerd 8\, Groningen\, Groningen\, 9736 GA\, Netherlands
CATEGORIES:Luisterkind,training
ORGANIZER;CN="Organisator":MAILTO:info@intuitievebegeleiding.nl
END:VEVENT
BEGIN:VEVENT
DTSTART;TZID=Europe/Amsterdam:20260217T100000
DTEND;TZID=Europe/Amsterdam:20260217T160000
DTSTAMP:20260424T184552
CREATED:20251222T143431Z
LAST-MODIFIED:20260302T111614Z
UID:3821-1771322400-1771344000@intuitievebegeleiding.nl
SUMMARY:Reiki 1 cursus
DESCRIPTION:Naast het ontvangen van de Reiki 1 inwijding\, leer ik je: \n🌺Wat is Reiki is en hoe kun je het allemaal toepassen \n🌺Hoe je je zelf een behandeling kunt geven (langer en de ‘snelle’) \n🌺Hoe je iemand anders kunt behandelen (stoel- en tafelbehandeling) \n🌺Welke chakra’s er zijn en hoe je deze kunt behandelen \n🌺Reiki toe te passen bij EHBO situaties & een aantal contra-indicaties
URL:https://intuitievebegeleiding.nl/activiteit/reiki-1-cursus-2/
LOCATION:Locatie\, Emingaheerd 8\, Groningen\, Groningen\, 9736 GA\, Netherlands
CATEGORIES:reiki,training
ORGANIZER;CN="Organisator":MAILTO:info@intuitievebegeleiding.nl
END:VEVENT
BEGIN:VEVENT
DTSTART;TZID=Europe/Amsterdam:20260222T130000
DTEND;TZID=Europe/Amsterdam:20260222T170000
DTSTAMP:20260424T184552
CREATED:20251227T091744Z
LAST-MODIFIED:20251227T092812Z
UID:3827-1771765200-1771779600@intuitievebegeleiding.nl
SUMMARY:Ontmoet je Gids
DESCRIPTION:Tijdens deze workshop komt medium Sylvia Damar en zij maakt contact met onze Gidsen en kan prachtig vertellen over hen.\nHoe hij/zij er uit ziet\, meestal ook een naam\, waar jij op dit moment in jouw proces zit\, etc. Echt heel erg bijzonder! \nTevens krijg je diverse oefeningen om je Gids\, jouw maatje voor het leven\, te voelen en om makkelijker contact te maken\, want dat is natuurlijk het meest fijne als bevestiging. Ook leer je hóe je het beste een vraag kunt stellen en hoe je het antwoord mag horen. \nMinimale groepsgrootte is 8\, maximaal is 12 personen
URL:https://intuitievebegeleiding.nl/activiteit/ontmoet-je-gids/
LOCATION:Locatie\, Emingaheerd 8\, Groningen\, Groningen\, 9736 GA\, Netherlands
CATEGORIES:spiritualiteit
ORGANIZER;CN="Organisator":MAILTO:info@intuitievebegeleiding.nl
END:VEVENT
BEGIN:VEVENT
DTSTART;TZID=Europe/Amsterdam:20260308T103000
DTEND;TZID=Europe/Amsterdam:20260308T130000
DTSTAMP:20260424T184552
CREATED:20251222T082704Z
LAST-MODIFIED:20260303T100556Z
UID:3813-1772965800-1772974800@intuitievebegeleiding.nl
SUMMARY:Reiki Lichtcirkel
DESCRIPTION:Een fijn samenzijn met gelijkgestemden. \nMeditatie\, uitwisseling in vragen en in het geven/ontvangen van Reiki is onderdeel van deze bijeenkomst.
URL:https://intuitievebegeleiding.nl/activiteit/reiki-lichtcirkel/
LOCATION:Locatie\, Emingaheerd 8\, Groningen\, Groningen\, 9736 GA\, Netherlands
CATEGORIES:reiki
ORGANIZER;CN="Organisator":MAILTO:info@intuitievebegeleiding.nl
END:VEVENT
BEGIN:VEVENT
DTSTART;TZID=Europe/Amsterdam:20260329T130000
DTEND;TZID=Europe/Amsterdam:20260329T153000
DTSTAMP:20260424T184552
CREATED:20260305T154420Z
LAST-MODIFIED:20260305T154420Z
UID:3941-1774789200-1774798200@intuitievebegeleiding.nl
SUMMARY:Meestermiddag
DESCRIPTION:Tijdens de Meestermiddag met medium Sylvia Damar\, duiken we dieper de energie in. Heb je je Gids al ontmoet? Mooi\, maak dan nu kennis met zijn/haar Meester – zeg maar de afdelingsleider op spiritueel niveau 😄. \n👣 Wat je kunt verwachten: \n– Inzicht in de samenwerking tussen jou\, je Gids én jouw Meester\n– Praktische handvatten om écht samen te werken (zonder wierookplicht 😉)\n– Een krachtig energetisch portaal waarin Kosmische Meesters binnenstappen\n– Een persoonlijke healing op maat\, afgestemd op wat jij nú nodig hebt\, die nog weken doorwerkt. \n💫 Dit is geen zweefmiddag\, maar een lichtkrachtboost voor je ziel. Open\, nuchter\, gedragen — en met humor waar nodig.
URL:https://intuitievebegeleiding.nl/activiteit/meestermiddag/
LOCATION:Locatie\, Emingaheerd 8\, Groningen\, Groningen\, 9736 GA\, Netherlands
CATEGORIES:spiritualiteit
ORGANIZER;CN="Organisator":MAILTO:info@intuitievebegeleiding.nl
END:VEVENT
BEGIN:VEVENT
DTSTART;TZID=Europe/Amsterdam:20260412T103000
DTEND;TZID=Europe/Amsterdam:20260412T130000
DTSTAMP:20260424T184552
CREATED:20260309T094006Z
LAST-MODIFIED:20260309T094216Z
UID:3953-1775989800-1775998800@intuitievebegeleiding.nl
SUMMARY:Reiki-uitwisseling
DESCRIPTION:Tijdens deze reiki uitwisseling is er een fijn samenzijn met gelijkgestemden. \n\nEen begeleide meditatie\, uitwisseling in vragen en in het geven/ontvangen van Reiki is onderdeel van deze bijeenkomst.\nKoffie/thee/water en versnaperingen zijn aanwezig.De overdracht is 25 euro
URL:https://intuitievebegeleiding.nl/activiteit/reiki-uitwisseling/
LOCATION:Locatie\, Emingaheerd 8\, Groningen\, Groningen\, 9736 GA\, Netherlands
CATEGORIES:reiki,spiritualiteit
ORGANIZER;CN="Organisator":MAILTO:info@intuitievebegeleiding.nl
END:VEVENT
BEGIN:VEVENT
DTSTART;TZID=Europe/Amsterdam:20260417T100000
DTEND;TZID=Europe/Amsterdam:20260417T160000
DTSTAMP:20260424T184552
CREATED:20260302T112138Z
LAST-MODIFIED:20260302T120056Z
UID:3926-1776420000-1776441600@intuitievebegeleiding.nl
SUMMARY:Reiki 1 cursus 2-4 personen
DESCRIPTION:Naast het ontvangen van de Reiki 1 inwijding\, leer ik je:\n🌺Wat is Reiki is en hoe kun je het allemaal toepassen\n🌺Hoe je je zelf een behandeling kunt geven (langer en de ‘snelle’)\n🌺Hoe je iemand anders kunt behandelen (stoel- en tafelbehandeling)\n🌺Welke chakra’s er zijn en hoe je deze kunt behandelen\n🌺Reiki toe te passen bij EHBO situaties & een aantal contra-indicaties
URL:https://intuitievebegeleiding.nl/activiteit/reiki-1/
LOCATION:Locatie\, Emingaheerd 8\, Groningen\, Groningen\, 9736 GA\, Netherlands
CATEGORIES:cursus,reiki,training
ORGANIZER;CN="Organisator":MAILTO:info@intuitievebegeleiding.nl
END:VEVENT
BEGIN:VEVENT
DTSTART;TZID=Europe/Amsterdam:20260512T100000
DTEND;TZID=Europe/Amsterdam:20260512T160000
DTSTAMP:20260424T184552
CREATED:20260302T124536Z
LAST-MODIFIED:20260304T152446Z
UID:3928-1778580000-1778601600@intuitievebegeleiding.nl
SUMMARY:Reiki 1 cursus 2-4 personen
DESCRIPTION:Naast het ontvangen van de Reiki 1 inwijding\, leer ik je:\n🌺Wat is Reiki is en hoe kun je het allemaal toepassen\n🌺Hoe je je zelf een behandeling kunt geven (langer en de ‘snelle’)\n🌺Hoe je iemand anders kunt behandelen (stoel- en tafelbehandeling)\n🌺Welke chakra’s er zijn en hoe je deze kunt behandelen\n🌺Reiki toe te passen bij EHBO situaties & een aantal contra-indicaties
URL:https://intuitievebegeleiding.nl/activiteit/reiki-1-2/
LOCATION:Locatie\, Emingaheerd 8\, Groningen\, Groningen\, 9736 GA\, Netherlands
CATEGORIES:cursus,reiki,training
ORGANIZER;CN="Organisator":MAILTO:info@intuitievebegeleiding.nl
END:VEVENT
BEGIN:VEVENT
DTSTART;TZID=Europe/Amsterdam:20260521T190000
DTEND;TZID=Europe/Amsterdam:20260521T213000
DTSTAMP:20260424T184552
CREATED:20260303T101226Z
LAST-MODIFIED:20260304T152512Z
UID:3936-1779390000-1779399000@intuitievebegeleiding.nl
SUMMARY:Reikicirkel
DESCRIPTION:In de Reikicirkel zijn meditatie\, uitwisseling in vragen en in het geven/ontvangen van Reiki\nonderdeel van deze bijeenkomst. Een fijn samenzijn met gelijkgestemden.
URL:https://intuitievebegeleiding.nl/activiteit/reikicirkel/
LOCATION:Locatie\, Emingaheerd 8\, Groningen\, Groningen\, 9736 GA\, Netherlands
CATEGORIES:reiki,spiritualiteit
ORGANIZER;CN="Organisator":MAILTO:info@intuitievebegeleiding.nl
END:VEVENT
BEGIN:VEVENT
DTSTART;TZID=Europe/Amsterdam:20260607T130000
DTEND;TZID=Europe/Amsterdam:20260607T170000
DTSTAMP:20260424T184552
CREATED:20251227T093012Z
LAST-MODIFIED:20260304T152527Z
UID:3833-1780837200-1780851600@intuitievebegeleiding.nl
SUMMARY:Ontmoet je Gids
DESCRIPTION:Tijdens deze workshop komt medium Sylvia Damar en zij maakt contact met onze Gids en kan prachtig vertellen over hem/haar.\nHoe hij/zij er uit ziet\, meestal ook een naam\, waar jij op dit moment in jouw proces zit\, etc. Echt heel erg bijzonder! \nTevens krijg je diverse oefeningen om je Gids\, jouw maatje voor het leven\, te voelen en om makkelijker contact te maken\, want dat is natuurlijk het meest fijne als bevestiging. Ook leer je hóe je het beste een vraag kunt stellen en hoe je het antwoord mag horen. \nMinimale groepsgrootte is 8\, maximaal is 12 personen
URL:https://intuitievebegeleiding.nl/activiteit/ontmoet-je-gids-2/
LOCATION:Groningen
CATEGORIES:spiritualiteit
ORGANIZER;CN="Organisator":MAILTO:info@intuitievebegeleiding.nl
END:VEVENT
BEGIN:VEVENT
DTSTART;TZID=Europe/Amsterdam:20260618T100000
DTEND;TZID=Europe/Amsterdam:20260618T160000
DTSTAMP:20260424T184552
CREATED:20260302T125110Z
LAST-MODIFIED:20260304T152538Z
UID:3930-1781776800-1781798400@intuitievebegeleiding.nl
SUMMARY:Reiki 1 cursus 2-4 personen
DESCRIPTION:Naast het ontvangen van de Reiki 1 inwijding\, leer ik je:\n🌺Wat is Reiki is en hoe kun je het allemaal toepassen\n🌺Hoe je je zelf een behandeling kunt geven (langer en de ‘snelle’)\n🌺Hoe je iemand anders kunt behandelen (stoel- en tafelbehandeling)\n🌺Welke chakra’s er zijn en hoe je deze kunt behandelen\n🌺Reiki toe te passen bij EHBO situaties & een aantal contra-indicaties
URL:https://intuitievebegeleiding.nl/activiteit/reiki-1-cursus-3/
LOCATION:Locatie\, Emingaheerd 8\, Groningen\, Groningen\, 9736 GA\, Netherlands
CATEGORIES:cursus,reiki,training
ORGANIZER;CN="Organisator":MAILTO:info@intuitievebegeleiding.nl
END:VEVENT
BEGIN:VEVENT
DTSTART;TZID=Europe/Amsterdam:20260820T100000
DTEND;TZID=Europe/Amsterdam:20260820T160000
DTSTAMP:20260424T184552
CREATED:20260302T111849Z
LAST-MODIFIED:20260316T163042Z
UID:3924-1787220000-1787241600@intuitievebegeleiding.nl
SUMMARY:Reiki 1 cursus 2-4 personen
DESCRIPTION:Naast het ontvangen van de Reiki 1 inwijding\, leer ik je:\n🌺Wat is Reiki is en hoe kun je het allemaal toepassen\n🌺Hoe je je zelf een behandeling kunt geven (langer en de ‘snelle’)\n🌺Hoe je iemand anders kunt behandelen (stoel- en tafelbehandeling)\n🌺Welke chakra’s er zijn en hoe je deze kunt behandelen\n🌺Reiki toe te passen bij EHBO situaties & een aantal contra-indicaties
URL:https://intuitievebegeleiding.nl/activiteit/reiki1/
LOCATION:Locatie\, Emingaheerd 8\, Groningen\, Groningen\, 9736 GA\, Netherlands
CATEGORIES:cursus,reiki,training
ORGANIZER;CN="Organisator":MAILTO:info@intuitievebegeleiding.nl
END:VEVENT
END:VCALENDAR